Workbook

Sheet Coxilha
B1: Planilha de Composição de Custos - Transporte Escolar
B3: Capacidade (lugares) : | E3: 25
B4: Itinerário : | E4: Linha Fontana, Majolo, Coxilha, Posse, Cidade
B5: Quilometragem mensal : | E5: ='Cálculo de km ano'!F6 -> 1120
B6: Item : | E6: Linha 1
B8: Custos Variaveis | E8: Custos Fixos
B10: OLEO DIESEL | E10: CUSTOS DE CAPITAL E DEPRECIAÇÃO
B11: Preço do Litro Oleo Diesel | C11: 6.39 | E11: Valor Veículo / Bem | F11: 150000
B12: Média Consumida KM/Litro | C12: 6 | E12: Valor da Depreciação anual % | F12: 4
B13: Custo Oleo Diesel por KM | C13: =C11/C12 -> 1.065 | E13: Valor da Depreciação anual R$ | F13: =F11/100*F12 -> 6000
E14: Valor a Depreciar no mês | F14: =F13/12 -> 500
B15: OLEO LUBRIFICANTE | E15: Km média Percorida no Mês | F15: =E5 -> 1120
B16: Preço do Litro Lubrificante | C16: 35 | E16: Custo da Depreciação por KM | F16: =F14/F15 -> 0.44642857
B17: Total na Troca - 12 Litros | C17: =C16*12 -> 420
B18: Km Rodados com 1 Troca | C18: 10000 | E18: MOTORISTA
B19: Custo do Lubrificante por KM | C19: =C17/C18 -> 0.042 | E19: Motorista | F19: 2094.65
E20: 13º | F20: =F19/12 -> 174.55417
B21: PNEUS DE RODAGEM | E21: Férias | F21: =F19/12 -> 174.55417
B22: Preço do Pneu utilizado | C22: 1100 | E22: 1/3 de Férias | F22: =F21/3 -> 58.184722
B23: Qtd. Pneus Rodando | C23: 6 | E23: FGTS | F23: =F19*0.08 -> 167.572
B24: Total na Troca - 6 Pneus | C24: =C22*C23 -> 6600 | E24: INSS | F24: =F19*0.21 -> 439.8765
B25: Vida util do Pneus em KM | C25: 30000 | E25: Custo Funcionário Mês | F25: =F19+F20+F21+F22+F23+F24 -> 3109.3916
B26: Custo dos Pneus de rodagem Por KM | C26: =C24/C25 -> 0.22 | E26: Custo do Motorista por KM | F26: =F25/F15 -> 2.7762425
B28: MANUTENÇÃO DO VEÍCULO | E28: MONITOR(A)
B29: Custo de Manutenção por mês | C29: 500 | E29: Monitor | F29: 0
B30: Custo da Manutenção por KM | C30: =C29/F15 -> 0.44642857 | E30: 13º | F30: =F29/12 -> 0
E31: Férias | F31: =F29/12 -> 0
E32: 1/3 de Férias | F32: =F31/3 -> 0
E33: FGTS | F33: =F29*0.08 -> 0
E34: INSS | F34: =F29*0.2 -> 0
E35: Custo Funcionário Mês | F35: =SUM(F29:F34) -> 0
E36: Custo do Monitor(a) por KM | F36: =F35/F15 -> 0
E38: DEMAIS DESPESAS
E39: IPVA - 1% sobre valor do veiculo | F39: 0
E40: Seguro Resp. Civil e Casco | F40: 300
E41: Laudos Detran/Inmetro | F41: 40
E42: Rastreador e câmeras | F42: 285
E43: Honorarios com Contador | F43: 150
E44: Totais dos custos | F44: =SUM(F39:F43) -> 775
E45: Custo por Km | F45: =F44/F15 -> 0.69196429
...

Sheet Fátima
B1: Planilha de Composição de Custos - Transporte Escolar
B3: Capacidade (lugares) : | E3: 12
B4: Itinerário : | E4: Linha Fátima, Cidade
B5: Quilometragem mensal : | E5: ='Cálculo de km ano'!F7 -> 1733.3333
B6: Item : | E6: Linha 2
B8: Custos Variaveis | E8: Custos Fixos
B10: OLEO DIESEL | E10: CUSTOS DE CAPITAL E DEPRECIAÇÃO
B11: Preço do Litro Oleo Diesel | C11: 6.39 | E11: Valor Veículo / Bem | F11: 200000
B12: Média Consumida KM/Litro | C12: 7 | E12: Valor da Depreciação anual % | F12: 7
B13: Custo Oleo Diesel por KM | C13: =C11/C12 -> 0.91285714 | E13: Valor da Depreciação anual R$ | F13: =F11/100*F12 -> 14000
E14: Valor a Depreciar no mês | F14: =F13/12 -> 1166.6667
B15: OLEO LUBRIFICANTE | E15: Km média Percorida no Mês | F15: =E5 -> 1733.3333
B16: Preço do Litro Lubrificante | C16: 35 | E16: Custo da Depreciação por KM | F16: =F14/F15 -> 0.67307692
B17: Total na Troca - 12 Litros | C17: =C16*12 -> 420
B18: Km Rodados com 1 Troca | C18: 10000 | E18: MOTORISTA
B19: Custo do Lubrificante por KM | C19: =C17/C18 -> 0.042 | E19: Motorista | F19: 2094.65
E20: 13º | F20: =F19/12 -> 174.55417
B21: PNEUS DE RODAGEM | E21: Férias | F21: =F19/12 -> 174.55417
B22: Preço do Pneu utilizado | C22: 1100 | E22: 1/3 de Férias | F22: =F21/3 -> 58.184722
B23: Qtd. Pneus Rodando | C23: 4 | E23: FGTS | F23: =F19*0.08 -> 167.572
B24: Total na Troca - 6 Pneus | C24: =C22*C23 -> 4400 | E24: INSS | F24: =F19*0.21 -> 439.8765
B25: Vida util do Pneus em KM | C25: 30000 | E25: Custo Funcionário Mês | F25: =F19+F20+F21+F22+F23+F24 -> 3109.3916
B26: Custo dos Pneus de rodagem Por KM | C26: =C24/C25 -> 0.14666667 | E26: Custo do Motorista por KM | F26: =F25/F15 -> 1.7938797
B28: MANUTENÇÃO DO VEÍCULO | E28: MONITOR(A)
B29: Custo de Manutenção por mês | C29: 500 | E29: Monitor | F29: 0
B30: Custo da Manutenção por KM | C30: =C29/F15 -> 0.28846154 | E30: 13º | F30: =F29/12 -> 0
E31: Férias | F31: =F29/12 -> 0
E32: 1/3 de Férias | F32: =F31/3 -> 0
E33: FGTS | F33: =F29*0.08 -> 0
E34: INSS | F34: =F29*0.2 -> 0
E35: Custo Funcionário Mês | F35: =SUM(F29:F34) -> 0
E36: Custo do Monitor(a) por KM | F36: =F35/F15 -> 0
E38: DEMAIS DESPESAS
E39: IPVA - 1% sobre valor do veiculo | F39: 0
E40: Seguro Resp. Civil e Casco | F40: 300
E41: Laudos Detran/Inmetro | F41: 40
E42: Rastreador e câmeras | F42: 285
E43: Honorarios com Contador | F43: 150
E44: Totais dos custos | F44: =SUM(F39:F43) -> 775
E45: Custo por Km | F45: =F44/F15 -> 0.44711538
...

Sheet S.Miguel
B1: Planilha de Composição de Custos - Transporte Escolar
B3: Capacidade (lugares) : | E3: 13
B4: Itinerário : | E4: Linha Sbarain, Uru, São Miguel, Encruzilhada
B5: Quilometragem mensal : | E5: ='Cálculo de km ano'!F8 -> 1546.6667
B6: Item : | E6: Linha 3
B8: Custos Variaveis | E8: Custos Fixos
B10: OLEO DIESEL | E10: CUSTOS DE CAPITAL E DEPRECIAÇÃO
B11: Preço do Litro Oleo Diesel | C11: 6.39 | E11: Valor Veículo / Bem | F11: 200000
B12: Média Consumida KM/Litro | C12: 7 | E12: Valor da Depreciação anual % | F12: 7
B13: Custo Oleo Diesel por KM | C13: =C11/C12 -> 0.91285714 | E13: Valor da Depreciação anual R$ | F13: =F11/100*F12 -> 14000
E14: Valor a Depreciar no mês | F14: =F13/12 -> 1166.6667
B15: OLEO LUBRIFICANTE | E15: Km média Percorida no Mês | F15: =E5 -> 1546.6667
B16: Preço do Litro Lubrificante | C16: 35 | E16: Custo da Depreciação por KM | F16: =F14/F15 -> 0.75431034
B17: Total na Troca - 12 Litros | C17: =C16*12 -> 420
B18: Km Rodados com 1 Troca | C18: 10000 | E18: MOTORISTA
B19: Custo do Lubrificante por KM | C19: =C17/C18 -> 0.042 | E19: Motorista | F19: 2094.65
E20: 13º | F20: =F19/12 -> 174.55417
B21: PNEUS DE RODAGEM | E21: Férias | F21: =F19/12 -> 174.55417
B22: Preço do Pneu utilizado | C22: 1100 | E22: 1/3 de Férias | F22: =F21/3 -> 58.184722
B23: Qtd. Pneus Rodando | C23: 4 | E23: FGTS | F23: =F19*0.08 -> 167.572
B24: Total na Troca - 6 Pneus | C24: =C22*C23 -> 4400 | E24: INSS | F24: =F19*0.21 -> 439.8765
B25: Vida util do Pneus em KM | C25: 30000 | E25: Custo Funcionário Mês | F25: =F19+F20+F21+F22+F23+F24 -> 3109.3916
B26: Custo dos Pneus de rodagem Por KM | C26: =C24/C25 -> 0.14666667 | E26: Custo do Motorista por KM | F26: =F25/F15 -> 2.0103825
B28: MANUTENÇÃO DO VEÍCULO | E28: MONITOR(A)
B29: Custo de Manutenção por mês | C29: 500 | E29: Monitor | F29: 0
B30: Custo da Manutenção por KM | C30: =C29/F15 -> 0.32327586 | E30: 13º | F30: =F29/12 -> 0
E31: Férias | F31: =F29/12 -> 0
E32: 1/3 de Férias | F32: =F31/3 -> 0
E33: FGTS | F33: =F29*0.08 -> 0
E34: INSS | F34: =F29*0.2 -> 0
E35: Custo Funcionário Mês | F35: =SUM(F29:F34) -> 0
E36: Custo do Monitor(a) por KM | F36: =F35/F15 -> 0
E38: DEMAIS DESPESAS
E39: IPVA - 1% sobre valor do veiculo | F39: 0
E40: Seguro Resp. Civil e Casco | F40: 300
E41: Laudos Detran/Inmetro | F41: 40
E42: Rastreador e câmeras | F42: 285
E43: Honorarios com Contador | F43: 150
E44: Totais dos custos | F44: =SUM(F39:F43) -> 775
E45: Custo por Km | F45: =F44/F15 -> 0.50107759
...

Sheet Cálculo de km ano
B3: Cálculo de Distâncias
B5: Linha | C5: Trajeto | D5: Distância ida e volta | E5: Viagens por semana | F5: Km por mês | G5: Km por ano
B6: =Coxilha!E6 -> Linha 1 | C6: =Coxilha!E4 -> Linha Fontana, Majolo, Coxilha, Posse, Cidade | D6: 56 | E6: 6 | F6: =G6/12 -> 1120 | G6: =D6*200/5*E6 -> 13440
B7: =Fátima!E6 -> Linha 2 | C7: =Fátima!E4 -> Linha Fátima, Cidade | D7: 52 | E7: 10 | F7: =G7/12 -> 1733.3333 | G7: =D7*200/5*E7 -> 20800
B8: =S.Miguel!E6 -> Linha 3 | C8: =S.Miguel!E4 -> Linha Sbarain, Uru, São Miguel, Encruzilhada | D8: 58 | E8: 8 | F8: =G8/12 -> 1546.6667 | G8: =D8*200/5*E8 -> 18560

Sheet Resumo 
B3: Resumo das Linhas de Transporte Escolar
B5: Linha | C5: Trajeto | D5: Km/mês | E5: Valor/Km | F5: Faturamento mensal | G5: Total Km no ano | H5: Valor total no ano
B6: =Coxilha!E6 -> Linha 1 | C6: =Coxilha!E4 -> Linha Fontana, Majolo, Coxilha, Posse, Cidade | D6: =Coxilha!E5 -> 1120 | E6: =Coxilha!F53 -> 7.11 | F6: =D6*E6 -> 7963.2 | G6: =D6*12 -> 13440 | H6: =F6*12 -> 95558.4
B7: =Fátima!E6 -> Linha 2 | C7: =Fátima!E4 -> Linha Fátima, Cidade | D7: =Fátima!E5 -> 1733.3333 | E7: =Fátima!F53 -> 5.38 | F7: =D7*E7 -> 9325.3333 | G7: =D7*12 -> 20800 | H7: =F7*12 -> 111904
B8: =S.Miguel!E6 -> Linha 3 | C8: =S.Miguel!E4 -> Linha Sbarain, Uru, São Miguel, Encruzilhada | D8: =S.Miguel!E5 -> 1546.6667 | E8: =S.Miguel!F53 -> 5.86 | F8: =D8*E8 -> 9063.4667 | G8: =D8*12 -> 18560 | H8: =F8*12 -> 108761.6
B9: Total | H9: =SUM(H6:H8) -> 316224
